BEGIN:VCALENDAR
VERSION:2.0
PRODID:-//Intand Corporation//Tandem//EN
METHOD:PUBLISH
BEGIN:VEVENT
DTSTAMP:20260421T093744Z
DTSTART:20180105T170000Z
DTEND:20180105T210000Z
TRANSP:TRANSPARENT
PRIORITY:0
SUMMARY:Dance Company Practice 
LOCATION:Gym-BFHS
DESCRIPTION:Dance Company Practice \n\nGroups:\nDance Company\n\nSchools:\
 nBenjamin Franklin Charter School - High School\n\nLocation:\nGym-BFHS\n\n
X-ALT-DESC;FMTTYPE=text/html:<!doctype html><html><body><span>Dance Compan
 y Practice </span><br /><br />Groups:<br />Dance Company<br /><br />School
 s:<br />Benjamin Franklin Charter School - High School<br /><br />Location
 :<br />Gym-BFHS<br /></body></html>
URL;VALUE=URI:http://bfhs.bfcsaz.com/index.php?type=view&action=event&id=8
 220
CREATED:20170713T183654Z
LAST-MODIFIED:20170727T215923Z
UID:event_request-8220-benjaminfranklinhigh@intand.com
END:VEVENT
END:VCALENDAR
