BEGIN:VCALENDAR
VERSION:2.0
PRODID:-//Intand Corporation//Tandem//EN
METHOD:PUBLISH
BEGIN:VEVENT
DTSTAMP:20260419T133922Z
DTSTART:20260509T230000Z
DTEND:20260510T030000Z
TRANSP:TRANSPARENT
PRIORITY:0
SUMMARY:Band Awards
LOCATION:Cafeteria-BFHS
DESCRIPTION:Our annual Band evening to eat and hand out awards\n\n\nSchool
 s:\nBenjamin Franklin Charter School - High School\n\nLocation:\nCafeteria
 -BFHS\n\n
URL;VALUE=URI:http://bfhs.bfcsaz.com/index.php?type=view&action=event&id=4
 1481
CREATED:20250717T144911Z
LAST-MODIFIED:20260303T205826Z
UID:event_request-41481-benjaminfranklinhigh@intand.com
END:VEVENT
END:VCALENDAR
