BEGIN:VCALENDAR
VERSION:2.0
PRODID:-//Intand Corporation//Tandem//EN
METHOD:PUBLISH
BEGIN:VEVENT
DTSTAMP:20260421T093732Z
DTSTART:20190329T213000Z
DTEND:20190329T230000Z
TRANSP:TRANSPARENT
PRIORITY:0
SUMMARY:JH Boys Basketball Practice
LOCATION:Gym-BFHS
DESCRIPTION:Groups:\nBasketball - JH Boys NAVY\nBasketball  -JH Boys GOLD\
 n\nSchools:\nBenjamin Franklin Charter School - High School\n\nLocation:\n
 Gym-BFHS\n\n
URL;VALUE=URI:http://bfhs.bfcsaz.com/index.php?type=view&action=event&id=1
 6439
CREATED:20190326T194213Z
LAST-MODIFIED:20190326T194213Z
UID:event-16439-benjaminfranklinhigh@intand.com
END:VEVENT
END:VCALENDAR
