BEGIN:VCALENDAR
VERSION:2.0
PRODID:-//Intand Corporation//Tandem//EN
METHOD:PUBLISH
BEGIN:VEVENT
DTSTAMP:20260421T093553Z
DTSTART:20190131T213000Z
DTEND:20190131T230000Z
TRANSP:TRANSPARENT
PRIORITY:0
SUMMARY:Pre-Competition Practice 
LOCATION:Gym-BFHS
DESCRIPTION:Groups:\nDance Company\n\nSchools:\nBenjamin Franklin Charter 
 School - High School\n\nLocation:\nGym-BFHS\n\n
URL;VALUE=URI:http://bfhs.bfcsaz.com/index.php?type=view&action=event&id=1
 5922
CREATED:20190130T212957Z
LAST-MODIFIED:20190131T172618Z
UID:event_request-15922-benjaminfranklinhigh@intand.com
END:VEVENT
END:VCALENDAR
