BEGIN:VCALENDAR
VERSION:2.0
PRODID:-//Intand Corporation//Tandem//EN
METHOD:PUBLISH
BEGIN:VEVENT
DTSTAMP:20260421T133438Z
DTSTART:20190124T213000Z
DTEND:20190124T230000Z
TRANSP:TRANSPARENT
PRIORITY:0
SUMMARY:Chargerette Practice
LOCATION:Gym-BFHS
DESCRIPTION:Schools:\nBenjamin Franklin Charter School - High School\n\nLo
 cation:\nGym-BFHS\n\n
URL;VALUE=URI:http://bfhs.bfcsaz.com/index.php?type=view&action=event&id=1
 5806
CREATED:20190119T164737Z
LAST-MODIFIED:20190119T165926Z
UID:event_request-15806-benjaminfranklinhigh@intand.com
END:VEVENT
END:VCALENDAR
