BEGIN:VCALENDAR
VERSION:2.0
PRODID:-//Intand Corporation//Tandem//EN
METHOD:PUBLISH
BEGIN:VEVENT
DTSTAMP:20260421T093553Z
DTSTART:20190102T170000Z
DTEND:20190102T180000Z
TRANSP:TRANSPARENT
PRIORITY:0
SUMMARY:HS JV Boys Basketball Practice 
LOCATION:Gym-BFHS
DESCRIPTION:Groups:\nBasketball - Boy's JV\n\nSchools:\nBenjamin Franklin 
 Charter School - High School\n\nLocation:\nGym-BFHS\n\n
URL;VALUE=URI:http://bfhs.bfcsaz.com/index.php?type=view&action=event&id=1
 5622
CREATED:20181219T205812Z
LAST-MODIFIED:20181219T205812Z
UID:event-15622-benjaminfranklinhigh@intand.com
END:VEVENT
END:VCALENDAR
