BEGIN:VCALENDAR
VERSION:2.0
PRODID:-//Intand Corporation//Tandem//EN
METHOD:PUBLISH
BEGIN:VEVENT
DTSTAMP:20260421T093504Z
DTSTART:20190504T160000Z
DTEND:20190504T210000Z
TRANSP:TRANSPARENT
PRIORITY:0
SUMMARY:Musical Rehearsal
LOCATION:Stage\, Gym-BFHS
DESCRIPTION:Mandatory rehearsal for Joseph and the Amazing Technicolor Dre
 amcoat. Students should bring a lunch.\n\nGroups:\nMusical\n\nSchools:\nBe
 njamin Franklin Charter School - High School\n\nLocations:\nStage\nGym-BFH
 S\n\n
URL;VALUE=URI:http://bfhs.bfcsaz.com/index.php?type=view&action=event&id=1
 5460
CREATED:20181203T005031Z
LAST-MODIFIED:20190501T183633Z
UID:event_request-15460-benjaminfranklinhigh@intand.com
END:VEVENT
END:VCALENDAR
