BEGIN:VCALENDAR
VERSION:2.0
PRODID:-//Intand Corporation//Tandem//EN
METHOD:PUBLISH
BEGIN:VEVENT
DTSTAMP:20260421T093911Z
DTSTART:20180102T190000Z
DTEND:20180102T200000Z
TRANSP:TRANSPARENT
PRIORITY:0
SUMMARY:HS Boys Basketball Workout Main Gym 
LOCATION: High School
DESCRIPTION:HS Boys Basketball Workout Main Gym\n\nGroups:\nBasketball - B
 oy's Varsity\nBasketball - Boy's JV\n\nLocation:\n High School\n\n
URL;VALUE=URI:http://bfhs.bfcsaz.com/index.php?type=view&action=event&id=1
 1414
CREATED:20171229T232259Z
LAST-MODIFIED:20171230T162735Z
UID:event_request-11414-benjaminfranklinhigh@intand.com
END:VEVENT
END:VCALENDAR
